BEGIN:VCALENDAR
VERSION:2.0
PRODID:-//Uebergabe//Events//DE
CALSCALE:GREGORIAN
METHOD:PUBLISH
X-WR-CALNAME:Uebergabe - Veranstaltungen
X-WR-TIMEZONE:Europe/Berlin
BEGIN:VEVENT
UID:69ca43e0e2ab4b0001a59af3@uebergabe.de
DTSTART;TZID=Europe/Berlin:20260508T170000
DTEND;TZID=Europe/Berlin:20260508T200000
SUMMARY:Afterworkseminar
LOCATION:OTH Regensburg
URL:https://www.uebergabe.de/event/afterworkseminar/
DESCRIPTION:https://www.oth-regensburg.de/weiterbilden/ueberblick/highlight
 s-2025/afterworkseminar
END:VEVENT
BEGIN:VEVENT
UID:69ca4304e2ab4b0001a59ae5@uebergabe.de
DTSTART;VALUE=DATE:20260504
DTEND;VALUE=DATE:20260508
SUMMARY:Weiterbildungswoche
LOCATION:OTH Regensburg
URL:https://www.uebergabe.de/event/weiterbildungswoche/
DESCRIPTION:https://www.oth-regensburg.de/weiterbilden/ueberblick/highlight
 s-2025/weiterbildungswochen
END:VEVENT
BEGIN:VEVENT
UID:69c3aafe00cf920001993ae0@uebergabe.de
DTSTART;TZID=Europe/Berlin:20260910T100000
DTEND;TZID=Europe/Berlin:20260910T170000
SUMMARY:Pflegetag Niedersachsen 2026
LOCATION:Hannover
URL:https://www.uebergabe.de/event/pflegetag-niedersachsen-2026/
DESCRIPTION:https://veranstaltungen.dbfk.mydorg.net/?page=details&semnr=000
 0002419
END:VEVENT
BEGIN:VEVENT
UID:69b7dbccdc3c6200015d6b51@uebergabe.de
DTSTART;TZID=Europe/Berlin:20260617T100000
DTEND;TZID=Europe/Berlin:20260617T143000
SUMMARY:Tagung des Berliner Bündnisses für Pflege
LOCATION:Berlin
URL:https://www.uebergabe.de/event/tagung-des-berliner-bundnisses-fur-pfleg
 e/
DESCRIPTION:https://www.arbeitgestaltengmbh.de/aktuelles/tagung-des-berline
 r-bundnisses-fur-pflege-2026
END:VEVENT
BEGIN:VEVENT
UID:69b50277dc3c6200015d6614@uebergabe.de
DTSTART;VALUE=DATE:20260421
DTEND;VALUE=DATE:20260424
SUMMARY:ALTENPFLEGE Messe 2026
LOCATION:Messezentrum Essen
URL:https://www.uebergabe.de/event/altenpflege-messe-2026/
DESCRIPTION:https://www.altenpflege-messe.de/de-de/besuchen?gad_source=1&ga
 d_campaignid=22194384649&gclid=CjwKCAjw687NBhB4EiwAQ645do_OzQLZc6AzjluxU4YN
 jDXN66OvLgvPVDgoGeLi9OPr6KqINEMctBoC5ocQAvD_BwE#informationen
END:VEVENT
BEGIN:VEVENT
UID:69b3328f4499ce0001366991@uebergabe.de
DTSTART;VALUE=DATE:20260507
DTEND;VALUE=DATE:20260509
SUMMARY:BIBB-Forschungskongress „Resilienz in der Pflege“
LOCATION:Wissenschaftszentrum Bonn
URL:https://www.uebergabe.de/event/bibb-forschungskongress-resilienz-in-der
 -pflege/
DESCRIPTION:https://www.bibb.de/de/211741.php
END:VEVENT
BEGIN:VEVENT
UID:69b26fac4499ce0001366680@uebergabe.de
DTSTART;VALUE=DATE:20260421
DTEND;VALUE=DATE:20260424
SUMMARY:DMEA
LOCATION:Messe Berlin
URL:https://www.uebergabe.de/event/dmea/
DESCRIPTION:https://www.dmea.de/de
END:VEVENT
BEGIN:VEVENT
UID:69afc8592c1b1000014b9160@uebergabe.de
DTSTART;VALUE=DATE:20260623
DTEND;VALUE=DATE:20260626
SUMMARY:Hauptstadtkongress 2026
LOCATION:HUB 27 Messe Berlin
URL:https://www.uebergabe.de/event/hauptstadtkongress-2026/
DESCRIPTION:https://www.hauptstadtkongress.de/
END:VEVENT
BEGIN:VEVENT
UID:69afc7102c1b1000014b9141@uebergabe.de
DTSTART;VALUE=DATE:20260617
DTEND;VALUE=DATE:20260620
SUMMARY:57. Gemeinsamen Jahrestagung der DGIIN und ÖGIAIN
LOCATION:Berlin
URL:https://www.uebergabe.de/event/57-gemeinsamen-jahrestagung-der-dgiin-un
 d-ogiain/
DESCRIPTION:https://dgiin-jahrestagung.de/
END:VEVENT
BEGIN:VEVENT
UID:69af23db2c1b1000014b90f1@uebergabe.de
DTSTART;TZID=Europe/Berlin:20260519T100000
DTEND;TZID=Europe/Berlin:20260519T120000
SUMMARY:Pflegetag Hamburg 2026
LOCATION:HAW Hamburg\, Hamburg
URL:https://www.uebergabe.de/event/pflegetag-hamburg-2026/
DESCRIPTION:https://www.dbfk.de/de/dbfk/nordwest/pflegetage/pflegetag-hh.ph
 p
END:VEVENT
BEGIN:VEVENT
UID:69aa476e159f360001d7f585@uebergabe.de
DTSTART;TZID=Europe/Berlin:20261120T103000
DTEND;TZID=Europe/Berlin:20261120T170000
SUMMARY:17. DGP-Hochschultag
LOCATION:Institut für Pflegewissenschaft\, Universität Koblenz
URL:https://www.uebergabe.de/event/17-dgp-hochschultag/
DESCRIPTION:https://dg-pflegewissenschaft.de/events/17-dgp-hochschultag/
END:VEVENT
BEGIN:VEVENT
UID:69aa44e0159f360001d7f573@uebergabe.de
DTSTART;VALUE=DATE:20261112
DTEND;VALUE=DATE:20261114
SUMMARY:Deutscher Pflegetag
LOCATION:hub27 Berlin
URL:https://www.uebergabe.de/event/deutscher-pflegetag/
DESCRIPTION:https://www.deutscher-pflegetag.de/
END:VEVENT
BEGIN:VEVENT
UID:69aa0c29159f360001d7f4f3@uebergabe.de
DTSTART;TZID=Europe/Berlin:20260507T090000
DTEND;TZID=Europe/Berlin:20260507T110000
SUMMARY:Junge Pflege Kongress Nordwest
LOCATION:RuhrCongress Bochum
URL:https://www.uebergabe.de/event/junge-pflege-kongress-nordwest/
DESCRIPTION:https://www.junge-pflege.de/nordwest/junge-pflege-kongress/
END:VEVENT
END:VCALENDAR